BEGIN:VCALENDAR
VERSION:2.0
PRODID:-//Zifo - ECPv6.15.20//NONSGML v1.0//EN
CALSCALE:GREGORIAN
METHOD:PUBLISH
X-WR-CALNAME:Zifo
X-ORIGINAL-URL:https://zifornd.com
X-WR-CALDESC:Events for Zifo
REFRESH-INTERVAL;VALUE=DURATION:PT1H
X-Robots-Tag:noindex
X-PUBLISHED-TTL:PT1H
BEGIN:VTIMEZONE
TZID:UTC
BEGIN:STANDARD
TZOFFSETFROM:+0000
TZOFFSETTO:+0000
TZNAME:UTC
DTSTART:20230101T000000
END:STANDARD
END:VTIMEZONE
BEGIN:VTIMEZONE
TZID:America/New_York
BEGIN:DAYLIGHT
TZOFFSETFROM:-0500
TZOFFSETTO:-0400
TZNAME:EDT
DTSTART:20250309T070000
END:DAYLIGHT
BEGIN:STANDARD
TZOFFSETFROM:-0400
TZOFFSETTO:-0500
TZNAME:EST
DTSTART:20251102T060000
END:STANDARD
BEGIN:DAYLIGHT
TZOFFSETFROM:-0500
TZOFFSETTO:-0400
TZNAME:EDT
DTSTART:20260308T070000
END:DAYLIGHT
BEGIN:STANDARD
TZOFFSETFROM:-0400
TZOFFSETTO:-0500
TZNAME:EST
DTSTART:20261101T060000
END:STANDARD
BEGIN:DAYLIGHT
TZOFFSETFROM:-0500
TZOFFSETTO:-0400
TZNAME:EDT
DTSTART:20270314T070000
END:DAYLIGHT
BEGIN:STANDARD
TZOFFSETFROM:-0400
TZOFFSETTO:-0500
TZNAME:EST
DTSTART:20271107T060000
END:STANDARD
END:VTIMEZONE
BEGIN:VTIMEZONE
TZID:Europe/Zurich
BEGIN:DAYLIGHT
TZOFFSETFROM:+0100
TZOFFSETTO:+0200
TZNAME:CEST
DTSTART:20250330T010000
END:DAYLIGHT
BEGIN:STANDARD
TZOFFSETFROM:+0200
TZOFFSETTO:+0100
TZNAME:CET
DTSTART:20251026T010000
END:STANDARD
BEGIN:DAYLIGHT
TZOFFSETFROM:+0100
TZOFFSETTO:+0200
TZNAME:CEST
DTSTART:20260329T010000
END:DAYLIGHT
BEGIN:STANDARD
TZOFFSETFROM:+0200
TZOFFSETTO:+0100
TZNAME:CET
DTSTART:20261025T010000
END:STANDARD
BEGIN:DAYLIGHT
TZOFFSETFROM:+0100
TZOFFSETTO:+0200
TZNAME:CEST
DTSTART:20270328T010000
END:DAYLIGHT
BEGIN:STANDARD
TZOFFSETFROM:+0200
TZOFFSETTO:+0100
TZNAME:CET
DTSTART:20271031T010000
END:STANDARD
END:VTIMEZONE
BEGIN:VEVENT
DTSTART;TZID=UTC:20241016T080000
DTEND;TZID=UTC:20241016T170000
DTSTAMP:20260420T174821
CREATED:20260209T133047Z
LAST-MODIFIED:20260305T101347Z
UID:52337-1729065600-1729098000@zifornd.com
SUMMARY:SiEE Boston 2024
DESCRIPTION:
URL:https://zifornd.com/event/siee-2024-on-demand-boston-oct-16/
LOCATION:Boston\, USA
CATEGORIES:On Demand
ATTACH;FMTTYPE=image/webp:https://cdn.zifornd.com/2026/02/SiEE-Boston-2024-feature.webp
END:VEVENT
BEGIN:VEVENT
DTSTART;TZID=UTC:20250212T120000
DTEND;TZID=UTC:20250212T190000
DTSTAMP:20260420T174821
CREATED:20260211T011349Z
LAST-MODIFIED:20260305T101247Z
UID:53776-1739361600-1739386800@zifornd.com
SUMMARY:Manufacturing Summit 2025
DESCRIPTION:
URL:https://zifornd.com/event/manufacturing-summit-2025/
LOCATION:North Carolina\, USA\, United States
CATEGORIES:On Demand
ATTACH;FMTTYPE=image/webp:https://cdn.zifornd.com/2026/02/Manufacturing-Summit-2025-feature.webp
END:VEVENT
BEGIN:VEVENT
DTSTART;TZID=UTC:20250610T080000
DTEND;TZID=UTC:20250610T170000
DTSTAMP:20260420T174821
CREATED:20260211T004023Z
LAST-MODIFIED:20260305T110728Z
UID:53765-1749542400-1749574800@zifornd.com
SUMMARY:SiEE Basel 2025
DESCRIPTION:
URL:https://zifornd.com/event/siee-2025on-demand-basel/
LOCATION:Basel\, CH\, Switzerland
CATEGORIES:On Demand
ATTACH;FMTTYPE=image/webp:https://cdn.zifornd.com/2026/02/SiEE-2025-Basel-feature.webp
END:VEVENT
BEGIN:VEVENT
DTSTART;TZID=UTC:20260207T090000
DTEND;TZID=UTC:20260211T233000
DTSTAMP:20260420T174821
CREATED:20260209T110237Z
LAST-MODIFIED:20260305T101046Z
UID:52151-1770454800-1770852600@zifornd.com
SUMMARY:SLAS 2026 International Conference & Exhibition
DESCRIPTION:
URL:https://zifornd.com/event/slas-2026-international-conference-exhibition/
LOCATION:Boston\, MA
CATEGORIES:Industry Event
ATTACH;FMTTYPE=image/webp:https://cdn.zifornd.com/2026/02/SLAS-2026-International-feature.webp
END:VEVENT
BEGIN:VEVENT
DTSTART;TZID=UTC:20260302T080000
DTEND;TZID=UTC:20260303T170000
DTSTAMP:20260420T174821
CREATED:20260213T141057Z
LAST-MODIFIED:20260312T112324Z
UID:56752-1772438400-1772557200@zifornd.com
SUMMARY:Lab of the Future USA | 2026
DESCRIPTION:
URL:https://zifornd.com/event/lab-of-the-future-usa-2026/
LOCATION:The Sheraton Boston Hotel\, USA\, United States
CATEGORIES:Industry Event
ATTACH;FMTTYPE=image/webp:https://cdn.zifornd.com/2026/02/Lab-of-future-usa-feature.webp
END:VEVENT
BEGIN:VEVENT
DTSTART;TZID=UTC:20260324T080000
DTEND;TZID=UTC:20260327T170000
DTSTAMP:20260420T174821
CREATED:20260213T141110Z
LAST-MODIFIED:20260305T100314Z
UID:56755-1774339200-1774630800@zifornd.com
SUMMARY:Analytica 2026 | Germany
DESCRIPTION:
URL:https://zifornd.com/event/analytica-2026-germany/
LOCATION:Boston\, USA
CATEGORIES:Industry Event
ATTACH;FMTTYPE=image/webp:https://cdn.zifornd.com/2026/02/Analytica-2026-Germany-featurs.webp
END:VEVENT
BEGIN:VEVENT
DTSTART;TZID=UTC:20260421T080000
DTEND;TZID=UTC:20260422T170000
DTSTAMP:20260420T174821
CREATED:20260213T141023Z
LAST-MODIFIED:20260407T132104Z
UID:56778-1776758400-1776877200@zifornd.com
SUMMARY:SmartLab USA
DESCRIPTION:
URL:https://zifornd.com/event/smartlab-usa/
LOCATION:Philadelphia\, USA\, United States
CATEGORIES:Industry Event
ATTACH;FMTTYPE=image/webp:https://cdn.zifornd.com/2026/02/smartlab-usa-features.webp
END:VEVENT
BEGIN:VEVENT
DTSTART;TZID=UTC:20260423T090000
DTEND;TZID=UTC:20260423T133000
DTSTAMP:20260420T174821
CREATED:20260224T071034Z
LAST-MODIFIED:20260401T052015Z
UID:61217-1776934800-1776951000@zifornd.com
SUMMARY:Practical AI for Science Leaders: Platforms\, Data\, and Real Outcomes
DESCRIPTION:
URL:https://zifornd.com/event/zifo-sapio-sciences-lunch-learn-hamburg/
LOCATION:Hamburg\, Germany
CATEGORIES:Zifo Event
ATTACH;FMTTYPE=image/jpeg:https://cdn.zifornd.com/2026/02/Lunch-and-Learn-Hamburg.jpg
END:VEVENT
BEGIN:VEVENT
DTSTART;TZID=America/New_York:20260424T080000
DTEND;TZID=America/New_York:20260424T170000
DTSTAMP:20260420T174821
CREATED:20260312T033507Z
LAST-MODIFIED:20260312T033635Z
UID:64358-1777017600-1777050000@zifornd.com
SUMMARY:2026 BPD Cell and Gene Therapy Symposium
DESCRIPTION:
URL:https://zifornd.com/event/2026-bpd-cell-and-gene-therapy-symposium/
LOCATION:North Carolina\, USA\, United States
CATEGORIES:Industry Event
ATTACH;FMTTYPE=image/jpeg:https://cdn.zifornd.com/2026/03/cellgene.jpg
END:VEVENT
BEGIN:VEVENT
DTSTART;TZID=Europe/Zurich:20260527T080000
DTEND;TZID=Europe/Zurich:20260528T170000
DTSTAMP:20260420T174821
CREATED:20260312T030711Z
LAST-MODIFIED:20260312T031209Z
UID:64353-1779868800-1779987600@zifornd.com
SUMMARY:Future Labs Live | EMEA
DESCRIPTION:
URL:https://zifornd.com/event/future-labs-live-emea/
LOCATION:Basel\, CH\, Switzerland
CATEGORIES:Industry Event
ATTACH;FMTTYPE=image/webp:https://cdn.zifornd.com/2026/02/Lab-of-future-usa-feature.webp
END:VEVENT
BEGIN:VEVENT
DTSTART;TZID=Europe/Zurich:20260527T080000
DTEND;TZID=Europe/Zurich:20260528T170000
DTSTAMP:20260420T174821
CREATED:20260312T032538Z
LAST-MODIFIED:20260312T032652Z
UID:64355-1779868800-1779987600@zifornd.com
SUMMARY:London Labs Live | EMEA
DESCRIPTION:
URL:https://zifornd.com/event/london-labs-live-emea/
LOCATION:London\, UK
CATEGORIES:Industry Event
ATTACH;FMTTYPE=image/webp:https://cdn.zifornd.com/2026/02/Lab-of-future-usa-feature.webp
END:VEVENT
BEGIN:VEVENT
DTSTART;TZID=UTC:20260602T080000
DTEND;TZID=UTC:20260602T170000
DTSTAMP:20260420T174821
CREATED:20260213T115128Z
LAST-MODIFIED:20260415T085332Z
UID:56648-1780387200-1780419600@zifornd.com
SUMMARY:Scientific Informatics Experience Exchange (SiEE) | Basel June 2\, 2026
DESCRIPTION:
URL:https://zifornd.com/event/siee-basel-2026/
LOCATION:Basel\, CH\, Switzerland
CATEGORIES:Zifo Signature Event
ATTACH;FMTTYPE=image/webp:https://cdn.zifornd.com/2026/02/Basel-Siee-Feature.webp
END:VEVENT
BEGIN:VEVENT
DTSTART;TZID=UTC:20260922T080000
DTEND;TZID=UTC:20260923T170000
DTSTAMP:20260420T174821
CREATED:20260312T040810Z
LAST-MODIFIED:20260312T041428Z
UID:64366-1790064000-1790182800@zifornd.com
SUMMARY:Lab of the Future EMEA | 2026
DESCRIPTION:
URL:https://zifornd.com/event/lab-of-the-future-emea-2026/
LOCATION:Amsterdam\, NL\, Netherlands
CATEGORIES:Industry Event
ATTACH;FMTTYPE=image/webp:https://cdn.zifornd.com/2026/02/Lab-of-future-usa-feature.webp
END:VEVENT
BEGIN:VEVENT
DTSTART;TZID=UTC:20260929T080000
DTEND;TZID=UTC:20261003T170000
DTSTAMP:20260420T174821
CREATED:20260213T141123Z
LAST-MODIFIED:20260305T100759Z
UID:56762-1790668800-1791046800@zifornd.com
SUMMARY:BioTechX USA
DESCRIPTION:
URL:https://zifornd.com/event/biotechx-usa-3/
LOCATION:Boston\, USA
CATEGORIES:Industry Event
ATTACH;FMTTYPE=image/webp:https://cdn.zifornd.com/2026/02/BioTechX-USA-1.webp
END:VEVENT
BEGIN:VEVENT
DTSTART;VALUE=DATE:20261006
DTEND;VALUE=DATE:20261008
DTSTAMP:20260420T174821
CREATED:20260312T035824Z
LAST-MODIFIED:20260312T041617Z
UID:64363-1791244800-1791417599@zifornd.com
SUMMARY:BioTechX EMEA
DESCRIPTION:
URL:https://zifornd.com/event/biotechx-emea/
LOCATION:Basel\, CH\, Switzerland
CATEGORIES:Industry Event
ATTACH;FMTTYPE=image/webp:https://cdn.zifornd.com/2026/02/BioTechX-USA-1.webp
END:VEVENT
BEGIN:VEVENT
DTSTART;TZID=UTC:20261101T080000
DTEND;TZID=UTC:20261102T170000
DTSTAMP:20260420T174821
CREATED:20260213T141044Z
LAST-MODIFIED:20260312T031516Z
UID:56737-1793520000-1793638800@zifornd.com
SUMMARY:Paperless Lab Academy | India 2026
DESCRIPTION:
URL:https://zifornd.com/event/paperless-lab-academy-india-2025/
LOCATION:Mumbai\, India
CATEGORIES:Industry Event
ATTACH;FMTTYPE=image/webp:https://cdn.zifornd.com/2026/02/Paperless-lab-academy-features.webp
END:VEVENT
END:VCALENDAR