BEGIN:VCALENDAR
VERSION:2.0
PRODID:-//Zifo - ECPv6.15.20//NONSGML v1.0//EN
CALSCALE:GREGORIAN
METHOD:PUBLISH
X-WR-CALNAME:Zifo
X-ORIGINAL-URL:https://zifornd.com
X-WR-CALDESC:Events for Zifo
REFRESH-INTERVAL;VALUE=DURATION:PT1H
X-Robots-Tag:noindex
X-PUBLISHED-TTL:PT1H
BEGIN:VTIMEZONE
TZID:UTC
BEGIN:STANDARD
TZOFFSETFROM:+0000
TZOFFSETTO:+0000
TZNAME:UTC
DTSTART:20220101T000000
END:STANDARD
END:VTIMEZONE
BEGIN:VEVENT
DTSTART;TZID=UTC:20240409T080000
DTEND;TZID=UTC:20240409T170000
DTSTAMP:20260420T192705
CREATED:20260203T070956Z
LAST-MODIFIED:20260305T101446Z
UID:47630-1712649600-1712682000@zifornd.com
SUMMARY:SiEE Basel 2024
DESCRIPTION:
URL:https://zifornd.com/event/siee-2024-basel/
LOCATION:Basel\, CH\, Switzerland
CATEGORIES:On Demand
ATTACH;FMTTYPE=image/webp:https://cdn.zifornd.com/2026/02/SiEE-2024-Hero-Banner-feature.webp
END:VEVENT
BEGIN:VEVENT
DTSTART;TZID=UTC:20231017T080000
DTEND;TZID=UTC:20231017T170000
DTSTAMP:20260420T192705
CREATED:20260211T001850Z
LAST-MODIFIED:20260305T101558Z
UID:53761-1697529600-1697562000@zifornd.com
SUMMARY:SiEE San Francisco 2023
DESCRIPTION:
URL:https://zifornd.com/event/siee-san-francisco/
LOCATION:San Francisco\, United States
CATEGORIES:On Demand
ATTACH;FMTTYPE=image/webp:https://cdn.zifornd.com/2026/02/SiEE-San-Francisco-2023-feature.webp
END:VEVENT
BEGIN:VEVENT
DTSTART;TZID=UTC:20230418T080000
DTEND;TZID=UTC:20230418T170000
DTSTAMP:20260420T192705
CREATED:20260211T005740Z
LAST-MODIFIED:20260305T110751Z
UID:53772-1681804800-1681837200@zifornd.com
SUMMARY:SiEE Boston 2023
DESCRIPTION:
URL:https://zifornd.com/event/siee-2023/
LOCATION:Boston\, USA
CATEGORIES:On Demand
ATTACH;FMTTYPE=image/webp:https://cdn.zifornd.com/2026/02/Siee-Boston-Feature.webp
END:VEVENT
END:VCALENDAR