BEGIN:VCALENDAR
VERSION:2.0
PRODID:-//Zifo - ECPv6.15.20//NONSGML v1.0//EN
CALSCALE:GREGORIAN
METHOD:PUBLISH
X-WR-CALNAME:Zifo
X-ORIGINAL-URL:https://zifornd.com
X-WR-CALDESC:Events for Zifo
REFRESH-INTERVAL;VALUE=DURATION:PT1H
X-Robots-Tag:noindex
X-PUBLISHED-TTL:PT1H
BEGIN:VTIMEZONE
TZID:UTC
BEGIN:STANDARD
TZOFFSETFROM:+0000
TZOFFSETTO:+0000
TZNAME:UTC
DTSTART:20250101T000000
END:STANDARD
END:VTIMEZONE
BEGIN:VEVENT
DTSTART;TZID=UTC:20260423T090000
DTEND;TZID=UTC:20260423T133000
DTSTAMP:20260423T015538
CREATED:20260224T071034Z
LAST-MODIFIED:20260401T052015Z
UID:61217-1776934800-1776951000@zifornd.com
SUMMARY:Practical AI for Science Leaders: Platforms\, Data\, and Real Outcomes
DESCRIPTION:
URL:https://zifornd.com/event/zifo-sapio-sciences-lunch-learn-hamburg/
LOCATION:Hamburg\, Germany
CATEGORIES:Zifo Event
ATTACH;FMTTYPE=image/jpeg:https://cdn.zifornd.com/2026/02/Lunch-and-Learn-Hamburg.jpg
END:VEVENT
END:VCALENDAR